BEGIN:VCALENDAR
METHOD:PUBLISH
VERSION:2.0
PRODID:-//hacksw/handcal//NONSGML v1.0//EN
BEGIN:VEVENT
DTSTAMP:20260502T113000
DTSTART:20260502T113000
DTEND:20260502T120000
SUMMARY:Inspection
LOCATION:501/3 Kings Cross Road Darlinghurst NSW 2010
DESCRIPTION:
UID:246789f3-1526-4d4c-8a0f-a61fb1fa4624@enlivenai.com.au
END:VEVENT
END:VCALENDAR
