BEGIN:VCALENDAR
METHOD:PUBLISH
VERSION:2.0
PRODID:-//hacksw/handcal//NONSGML v1.0//EN
BEGIN:VEVENT
DTSTAMP:20260424T164500
DTSTART:20260424T164500
DTEND:20260424T171500
SUMMARY:Inspection
LOCATION:45 McCulloch Street Dromana VIC 3936
DESCRIPTION:
UID:99399a36-267d-4433-a38b-900e91d646c6@enlivenai.com.au
END:VEVENT
END:VCALENDAR
