BEGIN:VCALENDAR
METHOD:PUBLISH
VERSION:2.0
PRODID:-//hacksw/handcal//NONSGML v1.0//EN
BEGIN:VEVENT
DTSTAMP:20260427T171500
DTSTART:20260427T171500
DTEND:20260427T173000
SUMMARY:Inspection
LOCATION:4/40 Burnaby Terrace Gordon Park QLD 4031
DESCRIPTION:
UID:721b2dba-aff5-4901-b74d-76cbda07de32@enlivenai.com.au
END:VEVENT
END:VCALENDAR
