BEGIN:VCALENDAR
METHOD:PUBLISH
VERSION:2.0
PRODID:-//hacksw/handcal//NONSGML v1.0//EN
BEGIN:VEVENT
DTSTAMP:20260424T132000
DTSTART:20260424T132000
DTEND:20260424T134000
SUMMARY:Inspection
LOCATION:56 William Street Redfern NSW 2016
DESCRIPTION:
UID:0917e87c-02cc-418f-99ad-f389a58c5d09@enlivenai.com.au
END:VEVENT
END:VCALENDAR
