BEGIN:VCALENDAR
METHOD:PUBLISH
VERSION:2.0
PRODID:-//hacksw/handcal//NONSGML v1.0//EN
BEGIN:VEVENT
DTSTAMP:20260501T164000
DTSTART:20260501T164000
DTEND:20260501T165000
SUMMARY:Inspection
LOCATION:158 Jetty Road Rosebud VIC 3939
DESCRIPTION:
UID:f7a9907e-a1b2-401c-a88f-208df8b13e8a@enlivenai.com.au
END:VEVENT
END:VCALENDAR
