BEGIN:VCALENDAR
METHOD:PUBLISH
VERSION:2.0
PRODID:-//hacksw/handcal//NONSGML v1.0//EN
BEGIN:VEVENT
DTSTAMP:20260428T123000
DTSTART:20260428T123000
DTEND:20260428T130000
SUMMARY:Inspection
LOCATION:177a Spit Road Mosman NSW 2088
DESCRIPTION:
UID:00ac6e6d-651f-46bd-90a4-d64025ab8638@enlivenai.com.au
END:VEVENT
END:VCALENDAR
