BEGIN:VCALENDAR
METHOD:PUBLISH
VERSION:2.0
PRODID:-//hacksw/handcal//NONSGML v1.0//EN
BEGIN:VEVENT
DTSTAMP:20260509T091500
DTSTART:20260509T091500
DTEND:20260509T094500
SUMMARY:Inspection
LOCATION:1/57 Craigend Street Darlinghurst NSW 2010
DESCRIPTION:
UID:756ae8c5-cdcb-4aed-8edc-4e0f93874a2d@enlivenai.com.au
END:VEVENT
END:VCALENDAR
