BEGIN:VCALENDAR
METHOD:PUBLISH
VERSION:2.0
PRODID:-//hacksw/handcal//NONSGML v1.0//EN
BEGIN:VEVENT
DTSTAMP:20260505T170000
DTSTART:20260505T170000
DTEND:20260505T173000
SUMMARY:Inspection
LOCATION:1/57 Craigend Street Darlinghurst NSW 2010
DESCRIPTION:
UID:2521e37e-9756-462a-9ff4-0849d4fddce8@enlivenai.com.au
END:VEVENT
END:VCALENDAR
