BEGIN:VCALENDAR
METHOD:PUBLISH
VERSION:2.0
PRODID:-//hacksw/handcal//NONSGML v1.0//EN
BEGIN:VEVENT
DTSTAMP:20260501T170000
DTSTART:20260501T170000
DTEND:20260501T173000
SUMMARY:Inspection
LOCATION:1/57 Craigend Street Darlinghurst NSW 2010
DESCRIPTION:
UID:3559ed73-ec3a-4bc7-a0f8-08b7b1019aaf@enlivenai.com.au
END:VEVENT
END:VCALENDAR
