BEGIN:VCALENDAR
METHOD:PUBLISH
VERSION:2.0
PRODID:-//hacksw/handcal//NONSGML v1.0//EN
BEGIN:VEVENT
DTSTAMP:20260427T170000
DTSTART:20260427T170000
DTEND:20260427T173000
SUMMARY:Inspection
LOCATION:14 Woongarra Street The Gap QLD 4061
DESCRIPTION:
UID:cfebd172-7c02-4c33-a219-5ad2575cf461@enlivenai.com.au
END:VEVENT
END:VCALENDAR
