BEGIN:VCALENDAR
METHOD:PUBLISH
VERSION:2.0
PRODID:-//hacksw/handcal//NONSGML v1.0//EN
BEGIN:VEVENT
DTSTAMP:20260423T123000
DTSTART:20260423T123000
DTEND:20260423T125000
SUMMARY:Inspection
LOCATION:5 Keiran Street Bondi Junction NSW 2022
DESCRIPTION:
UID:a443ea45-de22-4551-8991-6354bd1cdce1@enlivenai.com.au
END:VEVENT
END:VCALENDAR
