BEGIN:VCALENDAR
METHOD:PUBLISH
VERSION:2.0
PRODID:-//hacksw/handcal//NONSGML v1.0//EN
BEGIN:VEVENT
DTSTAMP:20260426T160000
DTSTART:20260426T160000
DTEND:20260426T163000
SUMMARY:Inspection
LOCATION:66 Emmett Road Crafers West SA 5152
DESCRIPTION:
UID:3584f6cf-8711-438b-ab00-d743f16e0dbc@enlivenai.com.au
END:VEVENT
END:VCALENDAR
