BEGIN:VCALENDAR
METHOD:PUBLISH
VERSION:2.0
PRODID:-//hacksw/handcal//NONSGML v1.0//EN
BEGIN:VEVENT
DTSTAMP:20260430T160000
DTSTART:20260430T160000
DTEND:20260430T163000
SUMMARY:Inspection
LOCATION:6 Cropley Terrace Mernda VIC 3754
DESCRIPTION:
UID:e4b1bb5b-c0b7-4958-86d2-77f4128e7f51@enlivenai.com.au
END:VEVENT
END:VCALENDAR
