BEGIN:VCALENDAR
METHOD:PUBLISH
VERSION:2.0
PRODID:-//hacksw/handcal//NONSGML v1.0//EN
BEGIN:VEVENT
DTSTAMP:20260505T164500
DTSTART:20260505T164500
DTEND:20260505T170000
SUMMARY:Inspection
LOCATION:4a Margaret Street Jan Juc VIC 3228
DESCRIPTION:
UID:a684c9dc-7d31-4280-92b9-1d958cdd0918@enlivenai.com.au
END:VEVENT
END:VCALENDAR
