BEGIN:VCALENDAR
METHOD:PUBLISH
VERSION:2.0
PRODID:-//hacksw/handcal//NONSGML v1.0//EN
BEGIN:VEVENT
DTSTAMP:20260423T164500
DTSTART:20260423T164500
DTEND:20260423T170000
SUMMARY:Inspection
LOCATION:32 Albany Lane Port Adelaide SA 5015
DESCRIPTION:
UID:bed08850-4441-45ff-ab61-7a4e98368865@enlivenai.com.au
END:VEVENT
END:VCALENDAR
