BEGIN:VCALENDAR
METHOD:PUBLISH
VERSION:2.0
PRODID:-//hacksw/handcal//NONSGML v1.0//EN
BEGIN:VEVENT
DTSTAMP:20260422T134500
DTSTART:20260422T134500
DTEND:20260422T141500
SUMMARY:Inspection
LOCATION:3/2 Rae Court Prahran VIC 3181
DESCRIPTION:
UID:d7dbbc16-1374-4235-81ec-f0f52ea8b495@enlivenai.com.au
END:VEVENT
END:VCALENDAR
