BEGIN:VCALENDAR
METHOD:PUBLISH
VERSION:2.0
PRODID:-//hacksw/handcal//NONSGML v1.0//EN
BEGIN:VEVENT
DTSTAMP:20260423T153000
DTSTART:20260423T153000
DTEND:20260423T154500
SUMMARY:Inspection
LOCATION:169 Main Road Hepburn Springs VIC 3461
DESCRIPTION:
UID:fe01cb32-9cbc-471b-be34-5feab766ea9f@enlivenai.com.au
END:VEVENT
END:VCALENDAR
