BEGIN:VCALENDAR
METHOD:PUBLISH
VERSION:2.0
PRODID:-//hacksw/handcal//NONSGML v1.0//EN
BEGIN:VEVENT
DTSTAMP:20260428T153000
DTSTART:20260428T153000
DTEND:20260428T154500
SUMMARY:Inspection
LOCATION:101s/5 Lardelli Drive Ryde NSW 2112
DESCRIPTION:
UID:ed045c99-ec45-4af7-8a3c-d3efb76dab46@enlivenai.com.au
END:VEVENT
END:VCALENDAR
