BEGIN:VCALENDAR
METHOD:PUBLISH
VERSION:2.0
PRODID:-//hacksw/handcal//NONSGML v1.0//EN
BEGIN:VEVENT
DTSTAMP:20260428T130000
DTSTART:20260428T130000
DTEND:20260428T131500
SUMMARY:Inspection
LOCATION:2 Newman  Road Nunawading VIC 3131
DESCRIPTION:
UID:f657bf9d-f290-4023-9f4b-ba2bb7a0394a@enlivenai.com.au
END:VEVENT
END:VCALENDAR
