BEGIN:VCALENDAR
METHOD:PUBLISH
VERSION:2.0
PRODID:-//hacksw/handcal//NONSGML v1.0//EN
BEGIN:VEVENT
DTSTAMP:20260502T093000
DTSTART:20260502T093000
DTEND:20260502T100000
SUMMARY:Inspection
LOCATION:16 Elizabeth Street Five Dock NSW 2046
DESCRIPTION:
UID:ae634b8a-49a9-41da-8b58-7ebcead44282@enlivenai.com.au
END:VEVENT
END:VCALENDAR
