BEGIN:VCALENDAR
METHOD:PUBLISH
VERSION:2.0
PRODID:-//hacksw/handcal//NONSGML v1.0//EN
BEGIN:VEVENT
DTSTAMP:20260424T111500
DTSTART:20260424T111500
DTEND:20260424T113000
SUMMARY:Inspection
LOCATION:7A Yallambee Road Berowra NSW 2081
DESCRIPTION:
UID:501af3ff-72f4-4220-add3-82e568875583@enlivenai.com.au
END:VEVENT
END:VCALENDAR
