BEGIN:VCALENDAR
METHOD:PUBLISH
VERSION:2.0
PRODID:-//hacksw/handcal//NONSGML v1.0//EN
BEGIN:VEVENT
DTSTAMP:20260428T161500
DTSTART:20260428T161500
DTEND:20260428T163500
SUMMARY:Inspection
LOCATION:2/236 Lutwyche Road Windsor QLD 4030
DESCRIPTION:
UID:e3e18ddf-1bf0-4b16-8710-1e8fd20f23ec@enlivenai.com.au
END:VEVENT
END:VCALENDAR
