BEGIN:VCALENDAR
METHOD:PUBLISH
VERSION:2.0
PRODID:-//hacksw/handcal//NONSGML v1.0//EN
BEGIN:VEVENT
DTSTAMP:20260423T160000
DTSTART:20260423T160000
DTEND:20260423T163000
SUMMARY:Inspection
LOCATION:27 Kelvin Street Wavell Heights QLD 4012
DESCRIPTION:
UID:b3f1504c-f69f-41fc-a0fe-e5d3e63e20ff@enlivenai.com.au
END:VEVENT
END:VCALENDAR
