BEGIN:VCALENDAR
METHOD:PUBLISH
VERSION:2.0
PRODID:-//hacksw/handcal//NONSGML v1.0//EN
BEGIN:VEVENT
DTSTAMP:20260426T120000
DTSTART:20260426T120000
DTEND:20260426T123000
SUMMARY:Inspection
LOCATION:34 Grosvenor Street South Yarra VIC 3141
DESCRIPTION:
UID:e27461f7-5c50-4699-90aa-2b0c1f239e37@enlivenai.com.au
END:VEVENT
END:VCALENDAR
