BEGIN:VCALENDAR
METHOD:PUBLISH
VERSION:2.0
PRODID:-//hacksw/handcal//NONSGML v1.0//EN
BEGIN:VEVENT
DTSTAMP:20260426T104500
DTSTART:20260426T104500
DTEND:20260426T111500
SUMMARY:Inspection
LOCATION:76 Edward Street Orange NSW 2800
DESCRIPTION:
UID:3fa0067b-2ed0-46b2-a593-791485ddf3d8@enlivenai.com.au
END:VEVENT
END:VCALENDAR
