BEGIN:VCALENDAR
METHOD:PUBLISH
VERSION:2.0
PRODID:-//hacksw/handcal//NONSGML v1.0//EN
BEGIN:VEVENT
DTSTAMP:20260424T101500
DTSTART:20260424T101500
DTEND:20260424T103000
SUMMARY:Inspection
LOCATION:30 Rosemead Road Hornsby NSW 2077
DESCRIPTION:
UID:7042b8ff-1bc1-4cbe-868d-a5c97d3e1320@enlivenai.com.au
END:VEVENT
END:VCALENDAR
