BEGIN:VCALENDAR
METHOD:PUBLISH
VERSION:2.0
PRODID:-//hacksw/handcal//NONSGML v1.0//EN
BEGIN:VEVENT
DTSTAMP:20260422T100000
DTSTART:20260422T100000
DTEND:20260422T103000
SUMMARY:Inspection
LOCATION:1/26 Pacific Parade Dee Why NSW 2099
DESCRIPTION:
UID:25146702-a453-44dd-9aef-d816b70fd589@enlivenai.com.au
END:VEVENT
END:VCALENDAR
