BEGIN:VCALENDAR
METHOD:PUBLISH
VERSION:2.0
PRODID:-//hacksw/handcal//NONSGML v1.0//EN
BEGIN:VEVENT
DTSTAMP:20260423T180000
DTSTART:20260423T180000
DTEND:20260423T183000
SUMMARY:Inspection
LOCATION:407 Boardwalk  Boulevard Point Cook VIC 3030
DESCRIPTION:
UID:dc97d292-e2e2-43fc-afc5-d69ced777f51@enlivenai.com.au
END:VEVENT
END:VCALENDAR
