BEGIN:VCALENDAR
METHOD:PUBLISH
VERSION:2.0
PRODID:-//hacksw/handcal//NONSGML v1.0//EN
BEGIN:VEVENT
DTSTAMP:20260426T134500
DTSTART:20260426T134500
DTEND:20260426T141500
SUMMARY:Inspection
LOCATION:2/21 Lewisham Road Prahran VIC 3181
DESCRIPTION:
UID:320192fe-87a2-486b-a4f5-995f4ee6ea77@enlivenai.com.au
END:VEVENT
END:VCALENDAR
