BEGIN:VCALENDAR
METHOD:PUBLISH
VERSION:2.0
PRODID:-//hacksw/handcal//NONSGML v1.0//EN
BEGIN:VEVENT
DTSTAMP:20260428T140000
DTSTART:20260428T140000
DTEND:20260428T143000
SUMMARY:Inspection
LOCATION:1527 Burra Road Burra NSW 2620
DESCRIPTION:
UID:22beebdf-9420-4d7e-9908-503b90ebe629@enlivenai.com.au
END:VEVENT
END:VCALENDAR
