BEGIN:VCALENDAR
METHOD:PUBLISH
VERSION:2.0
PRODID:-//hacksw/handcal//NONSGML v1.0//EN
BEGIN:VEVENT
DTSTAMP:20260424T160000
DTSTART:20260424T160000
DTEND:20260424T163000
SUMMARY:Inspection
LOCATION:9/8 Riverstone  Road Helensvale QLD 4212
DESCRIPTION:
UID:8993adf4-9e5f-44de-9baa-28984d20edfb@enlivenai.com.au
END:VEVENT
END:VCALENDAR
