BEGIN:VCALENDAR
METHOD:PUBLISH
VERSION:2.0
PRODID:-//hacksw/handcal//NONSGML v1.0//EN
BEGIN:VEVENT
DTSTAMP:20260424T123000
DTSTART:20260424T123000
DTEND:20260424T130000
SUMMARY:Inspection
LOCATION:8 The  Outlook Hornsby Heights NSW 2077
DESCRIPTION:
UID:b25aaf96-f444-4cdb-8cba-165bc1c8f0af@enlivenai.com.au
END:VEVENT
END:VCALENDAR
