BEGIN:VCALENDAR
METHOD:PUBLISH
VERSION:2.0
PRODID:-//hacksw/handcal//NONSGML v1.0//EN
BEGIN:VEVENT
DTSTAMP:20260509T100000
DTSTART:20260509T100000
DTEND:20260509T103000
SUMMARY:Inspection
LOCATION:52 Ballast Point Road Birchgrove NSW 2041
DESCRIPTION:
UID:0f033a5f-91d4-4b31-8b19-441c90b9a3a0@enlivenai.com.au
END:VEVENT
END:VCALENDAR
