BEGIN:VCALENDAR
METHOD:PUBLISH
VERSION:2.0
PRODID:-//hacksw/handcal//NONSGML v1.0//EN
BEGIN:VEVENT
DTSTAMP:20260502T100000
DTSTART:20260502T100000
DTEND:20260502T103000
SUMMARY:Inspection
LOCATION:52 Ballast Point Road Birchgrove NSW 2041
DESCRIPTION:
UID:b1382944-63ff-4e3c-95e4-a7e69947cdd8@enlivenai.com.au
END:VEVENT
END:VCALENDAR
