BEGIN:VCALENDAR
METHOD:PUBLISH
VERSION:2.0
PRODID:-//hacksw/handcal//NONSGML v1.0//EN
BEGIN:VEVENT
DTSTAMP:20260423T181000
DTSTART:20260423T181000
DTEND:20260423T183000
SUMMARY:Inspection
LOCATION:8 Knocklayde Street Ashfield NSW 2131
DESCRIPTION:
UID:c539f38a-78bf-452f-a514-c204ec403e31@enlivenai.com.au
END:VEVENT
END:VCALENDAR
