BEGIN:VCALENDAR
METHOD:PUBLISH
VERSION:2.0
PRODID:-//hacksw/handcal//NONSGML v1.0//EN
BEGIN:VEVENT
DTSTAMP:20260429T130000
DTSTART:20260429T130000
DTEND:20260429T133000
SUMMARY:Inspection
LOCATION:39 Love Street Black Rock VIC 3193
DESCRIPTION:
UID:876cd9ba-cc98-461b-93af-64e5f3e36fa9@enlivenai.com.au
END:VEVENT
END:VCALENDAR
