BEGIN:VCALENDAR
METHOD:PUBLISH
VERSION:2.0
PRODID:-//hacksw/handcal//NONSGML v1.0//EN
BEGIN:VEVENT
DTSTAMP:20260423T113000
DTSTART:20260423T113000
DTEND:20260423T114500
SUMMARY:Inspection
LOCATION:4507/1 Balston Street Southbank VIC 3006
DESCRIPTION:
UID:dfad4535-58f1-4bce-bb03-d841b593cc9a@enlivenai.com.au
END:VEVENT
END:VCALENDAR
