BEGIN:VCALENDAR
METHOD:PUBLISH
VERSION:2.0
PRODID:-//hacksw/handcal//NONSGML v1.0//EN
BEGIN:VEVENT
DTSTAMP:20260426T133000
DTSTART:20260426T133000
DTEND:20260426T140000
SUMMARY:Inspection
LOCATION:112 McCarrs Creek Road Church Point NSW 2105
DESCRIPTION:
UID:929a64b0-1c06-4b11-bcbc-4949cac95669@enlivenai.com.au
END:VEVENT
END:VCALENDAR
