BEGIN:VCALENDAR
METHOD:PUBLISH
VERSION:2.0
PRODID:-//hacksw/handcal//NONSGML v1.0//EN
BEGIN:VEVENT
DTSTAMP:20260428T165000
DTSTART:20260428T165000
DTEND:20260428T170000
SUMMARY:Inspection
LOCATION:34 Harbourside Esplanade Safety Beach VIC 3936
DESCRIPTION:
UID:b67ba360-2c05-4065-a5a7-ecce6b6c1710@enlivenai.com.au
END:VEVENT
END:VCALENDAR
