BEGIN:VCALENDAR
METHOD:PUBLISH
VERSION:2.0
PRODID:-//hacksw/handcal//NONSGML v1.0//EN
BEGIN:VEVENT
DTSTAMP:20260423T130000
DTSTART:20260423T130000
DTEND:20260423T132000
SUMMARY:Inspection
LOCATION:40 Edmund Street Queens Park NSW 2022
DESCRIPTION:
UID:841978bb-68b7-4c0a-a1d8-ed0627ff2217@enlivenai.com.au
END:VEVENT
END:VCALENDAR
