BEGIN:VCALENDAR
METHOD:PUBLISH
VERSION:2.0
PRODID:-//hacksw/handcal//NONSGML v1.0//EN
BEGIN:VEVENT
DTSTAMP:20260430T103000
DTSTART:20260430T103000
DTEND:20260430T104500
SUMMARY:Inspection
LOCATION:7/17 Stokes Street Lane Cove NSW 2066
DESCRIPTION:
UID:168e784d-725b-455b-b060-1ecad7a5b48e@enlivenai.com.au
END:VEVENT
END:VCALENDAR
