BEGIN:VCALENDAR
METHOD:PUBLISH
VERSION:2.0
PRODID:-//hacksw/handcal//NONSGML v1.0//EN
BEGIN:VEVENT
DTSTAMP:20260430T110000
DTSTART:20260430T110000
DTEND:20260430T113000
SUMMARY:Inspection
LOCATION:7A Penshurst Avenue Kurraba Point NSW 2089
DESCRIPTION:
UID:39b6ac94-4930-4eea-a9c8-1ad7ad7e63ed@enlivenai.com.au
END:VEVENT
END:VCALENDAR
