BEGIN:VCALENDAR
METHOD:PUBLISH
VERSION:2.0
PRODID:-//hacksw/handcal//NONSGML v1.0//EN
BEGIN:VEVENT
DTSTAMP:20260423T131500
DTSTART:20260423T131500
DTEND:20260423T133000
SUMMARY:Inspection
LOCATION:3/62 The Avenue Hurstville NSW 2220
DESCRIPTION:
UID:654f5738-b22c-41d1-a42f-93789e379545@enlivenai.com.au
END:VEVENT
END:VCALENDAR
