BEGIN:VCALENDAR
METHOD:PUBLISH
VERSION:2.0
PRODID:-//hacksw/handcal//NONSGML v1.0//EN
BEGIN:VEVENT
DTSTAMP:20260430T120000
DTSTART:20260430T120000
DTEND:20260430T123000
SUMMARY:Inspection
LOCATION:25/20 Pyrmont Bridge  Road Camperdown NSW 2050
DESCRIPTION:
UID:edec6f43-ac7d-45c4-920b-86b4a1b8d3de@enlivenai.com.au
END:VEVENT
END:VCALENDAR
