BEGIN:VCALENDAR
METHOD:PUBLISH
VERSION:2.0
PRODID:-//hacksw/handcal//NONSGML v1.0//EN
BEGIN:VEVENT
DTSTAMP:20260430T140000
DTSTART:20260430T140000
DTEND:20260430T143000
SUMMARY:Inspection
LOCATION:118/59 Stables Circuit Doncaster VIC 3108
DESCRIPTION:
UID:9de1a647-89d4-44dd-808f-c2e0da505318@enlivenai.com.au
END:VEVENT
END:VCALENDAR
