BEGIN:VCALENDAR
METHOD:PUBLISH
VERSION:2.0
PRODID:-//hacksw/handcal//NONSGML v1.0//EN
BEGIN:VEVENT
DTSTAMP:20260513T170000
DTSTART:20260513T170000
DTEND:20260513T173000
SUMMARY:Inspection
LOCATION:11/268 Alexandra Parade Alexandra Headland QLD 4572
DESCRIPTION:
UID:3fb1f2a0-4b86-40f2-a676-377c354452ae@enlivenai.com.au
END:VEVENT
END:VCALENDAR
