BEGIN:VCALENDAR
METHOD:PUBLISH
VERSION:2.0
PRODID:-//hacksw/handcal//NONSGML v1.0//EN
BEGIN:VEVENT
DTSTAMP:20260426T114000
DTSTART:20260426T114000
DTEND:20260426T121000
SUMMARY:Inspection
LOCATION:1 Neptune Street Dundas Valley NSW 2117
DESCRIPTION:
UID:8c419676-1571-480c-ba95-d26ab3056864@enlivenai.com.au
END:VEVENT
END:VCALENDAR
