BEGIN:VCALENDAR
METHOD:PUBLISH
VERSION:2.0
PRODID:-//hacksw/handcal//NONSGML v1.0//EN
BEGIN:VEVENT
DTSTAMP:20260424T154000
DTSTART:20260424T154000
DTEND:20260424T161000
SUMMARY:Inspection
LOCATION:1 Neptune Street Dundas Valley NSW 2117
DESCRIPTION:
UID:44360aff-7ee1-4921-a912-d47e53c9c52b@enlivenai.com.au
END:VEVENT
END:VCALENDAR
