BEGIN:VCALENDAR
METHOD:PUBLISH
VERSION:2.0
PRODID:-//hacksw/handcal//NONSGML v1.0//EN
BEGIN:VEVENT
DTSTAMP:20260502T101500
DTSTART:20260502T101500
DTEND:20260502T104500
SUMMARY:Inspection
LOCATION:2610/50 Albert Road South Melbourne VIC 3205
DESCRIPTION:
UID:9d058f53-5822-4129-a52a-b0059483a1f0@enlivenai.com.au
END:VEVENT
END:VCALENDAR
