BEGIN:VCALENDAR
METHOD:PUBLISH
VERSION:2.0
PRODID:-//hacksw/handcal//NONSGML v1.0//EN
BEGIN:VEVENT
DTSTAMP:20260425T141500
DTSTART:20260425T141500
DTEND:20260425T144500
SUMMARY:Inspection
LOCATION:34 Melibee Street Blairgowrie VIC 3942
DESCRIPTION:
UID:7085e825-6c5d-4187-a848-60de7f88745b@enlivenai.com.au
END:VEVENT
END:VCALENDAR
